BEGIN:VCALENDAR
VERSION:2.0
PRODID:icalendar-ruby
CALSCALE:GREGORIAN
METHOD:PUBLISH
BEGIN:VEVENT
DTSTAMP:20260422T224647Z
UID:12-387673@pinchotparkag.com
DTSTART:20260923T230000Z
DTEND:20260924T001500Z
CLASS:PUBLIC
CREATED:20260422T171057
DESCRIPTION:Join us for Wednesday Night Church\, a vibrant gathering desig
 ned for everyone from ages 3 to 99! Our church community welcomes individ
 uals and families to come together for an evening filled with fun\, fellow
 ship\, and spiritual growth.\nPrograms for All Ages\n\nBoys and Girls Mini
 stries: Special ministries for boys and girls provide age-appropriate acti
 vities that foster friendships and spiritual development. These ministries
  are designed to create a safe space where children can explore their fait
 h while having a great time.\nAdult Bible Study: Adults can dive deeper in
 to their faith through our Bible study sessions. These studies encourage m
 eaningful discussions and personal growth\, allowing attendees to connect 
 scripture with everyday life.\n\nFellowship and Community\nOur Wednesday n
 ights are not just about learning\; they are also about building community
 . Participants have the opportunity to meet new friends\, share experience
 s\, and support one another in their faith journeys.
LAST-MODIFIED:20260422T171057
LOCATION:
SUMMARY:Wednesday Night Church
URL;VALUE=URI:https://www.pinchotparkag.com/events/wednesday-night-church/2
 026-09-23
ATTACH;FILENAME=WednesdayNight.jpg;FMTTYPE=image/jpeg:https://dq5pwpg1q8ru0
 .cloudfront.net/2024/12/04/22/56/12/55f87b33-2fd1-4dbb-893b-183ac8797626/W
 ednesdayNight.jpg
END:VEVENT
END:VCALENDAR
